BEGIN:VCALENDAR
VERSION:2.0
PRODID:-//CYAA - ECPv6.11.2//NONSGML v1.0//EN
CALSCALE:GREGORIAN
METHOD:PUBLISH
X-ORIGINAL-URL:https://www.cyaasports.com
X-WR-CALDESC:Events for CYAA
REFRESH-INTERVAL;VALUE=DURATION:PT1H
X-Robots-Tag:noindex
X-PUBLISHED-TTL:PT1H
BEGIN:VTIMEZONE
TZID:America/New_York
BEGIN:DAYLIGHT
TZOFFSETFROM:-0500
TZOFFSETTO:-0400
TZNAME:EDT
DTSTART:20240310T070000
END:DAYLIGHT
BEGIN:STANDARD
TZOFFSETFROM:-0400
TZOFFSETTO:-0500
TZNAME:EST
DTSTART:20241103T060000
END:STANDARD
END:VTIMEZONE
BEGIN:VEVENT
DTSTART;TZID=America/New_York:20240401T090000
DTEND;TZID=America/New_York:20240401T130000
DTSTAMP:20260422T093352
CREATED:20250306T183519Z
LAST-MODIFIED:20250306T183519Z
UID:10002421-1711962000-1711976400@www.cyaasports.com
SUMMARY:Pickle Ball Ed and Theresa
DESCRIPTION:
URL:https://www.cyaasports.com/event/pickle-ball-ed-and-theresa-3/2024-04-01/
LOCATION:Court
CATEGORIES:Indoor
END:VEVENT
BEGIN:VEVENT
DTSTART;TZID=America/New_York:20240401T173000
DTEND;TZID=America/New_York:20240401T203000
DTSTAMP:20260422T093352
CREATED:20250306T183615Z
LAST-MODIFIED:20250306T183615Z
UID:10002485-1711992600-1712003400@www.cyaasports.com
SUMMARY:Manchester Thunder Lacrosse
DESCRIPTION:
URL:https://www.cyaasports.com/event/manchester-thunder-lacrosse-8/
LOCATION:Turf
CATEGORIES:Indoor
END:VEVENT
BEGIN:VEVENT
DTSTART;TZID=America/New_York:20240401T183000
DTEND;TZID=America/New_York:20240401T200000
DTSTAMP:20260422T093352
CREATED:20250306T183615Z
LAST-MODIFIED:20250306T183615Z
UID:10000009-1711996200-1712001600@www.cyaasports.com
SUMMARY:NH Spartans Basketball
DESCRIPTION:
URL:https://www.cyaasports.com/event/nh-spartans-basketball/2024-04-01/
LOCATION:Court
CATEGORIES:Indoor
END:VEVENT
BEGIN:VEVENT
DTSTART;TZID=America/New_York:20240402T090000
DTEND;TZID=America/New_York:20240402T130000
DTSTAMP:20260422T093352
CREATED:20250306T183519Z
LAST-MODIFIED:20250306T183519Z
UID:10002422-1712048400-1712062800@www.cyaasports.com
SUMMARY:Pickle Ball Ed and Theresa
DESCRIPTION:
URL:https://www.cyaasports.com/event/pickle-ball-ed-and-theresa-3/2024-04-02/
LOCATION:Court
CATEGORIES:Indoor
END:VEVENT
BEGIN:VEVENT
DTSTART;TZID=America/New_York:20240402T150000
DTEND;TZID=America/New_York:20240402T163000
DTSTAMP:20260422T093352
CREATED:20250306T183615Z
LAST-MODIFIED:20250306T183615Z
UID:10000087-1712070000-1712075400@www.cyaasports.com
SUMMARY:Jesse Remington Volleyball
DESCRIPTION:
URL:https://www.cyaasports.com/event/jesse-remington-volleyball/
LOCATION:Turf
CATEGORIES:Indoor
END:VEVENT
BEGIN:VEVENT
DTSTART;TZID=America/New_York:20240402T170000
DTEND;TZID=America/New_York:20240402T180000
DTSTAMP:20260422T093352
CREATED:20250306T183615Z
LAST-MODIFIED:20250306T183615Z
UID:10001077-1712077200-1712080800@www.cyaasports.com
SUMMARY:U10 Stingers
DESCRIPTION:
URL:https://www.cyaasports.com/event/u10-stingers-17/
LOCATION:Turf
CATEGORIES:Indoor
END:VEVENT
BEGIN:VEVENT
DTSTART;TZID=America/New_York:20240402T180000
DTEND;TZID=America/New_York:20240402T190000
DTSTAMP:20260422T093352
CREATED:20250306T183615Z
LAST-MODIFIED:20250306T183615Z
UID:10001497-1712080800-1712084400@www.cyaasports.com
SUMMARY:U10 Candia Storm (Cruz)
DESCRIPTION:
URL:https://www.cyaasports.com/event/u10-candia-storm-cruz-4/
LOCATION:Turf
CATEGORIES:Indoor
END:VEVENT
BEGIN:VEVENT
DTSTART;TZID=America/New_York:20240402T183000
DTEND;TZID=America/New_York:20240402T200000
DTSTAMP:20260422T093352
CREATED:20250306T183615Z
LAST-MODIFIED:20250306T183615Z
UID:10000010-1712082600-1712088000@www.cyaasports.com
SUMMARY:NH Spartans Basketball
DESCRIPTION:
URL:https://www.cyaasports.com/event/nh-spartans-basketball/2024-04-02/
LOCATION:Court
CATEGORIES:Indoor
END:VEVENT
BEGIN:VEVENT
DTSTART;TZID=America/New_York:20240402T190000
DTEND;TZID=America/New_York:20240402T200000
DTSTAMP:20260422T093352
CREATED:20250306T183615Z
LAST-MODIFIED:20250306T183615Z
UID:10001447-1712084400-1712088000@www.cyaasports.com
SUMMARY:NYA Baseball
DESCRIPTION:
URL:https://www.cyaasports.com/event/nya-baseball/
LOCATION:Turf
CATEGORIES:Indoor
END:VEVENT
BEGIN:VEVENT
DTSTART;TZID=America/New_York:20240402T200000
DTEND;TZID=America/New_York:20240402T210000
DTSTAMP:20260422T093352
CREATED:20250306T183615Z
LAST-MODIFIED:20250306T183615Z
UID:10000645-1712088000-1712091600@www.cyaasports.com
SUMMARY:U13 Storm Practice
DESCRIPTION:
URL:https://www.cyaasports.com/event/u13-storm-practice-3/
LOCATION:Turf
CATEGORIES:Indoor
END:VEVENT
BEGIN:VEVENT
DTSTART;TZID=America/New_York:20240402T200000
DTEND;TZID=America/New_York:20240402T220000
DTSTAMP:20260422T093352
CREATED:20250306T183623Z
LAST-MODIFIED:20250306T183623Z
UID:10003268-1712088000-1712095200@www.cyaasports.com
SUMMARY:Men's basketball pay to play
DESCRIPTION:
URL:https://www.cyaasports.com/event/mens-basketball-pay-to-play-4/2024-04-02/
LOCATION:Court
CATEGORIES:Indoor
END:VEVENT
BEGIN:VEVENT
DTSTART;TZID=America/New_York:20240403T090000
DTEND;TZID=America/New_York:20240403T130000
DTSTAMP:20260422T093352
CREATED:20250306T183519Z
LAST-MODIFIED:20250306T183519Z
UID:10002423-1712134800-1712149200@www.cyaasports.com
SUMMARY:Pickle Ball Ed and Theresa
DESCRIPTION:
URL:https://www.cyaasports.com/event/pickle-ball-ed-and-theresa-3/2024-04-03/
LOCATION:Court
CATEGORIES:Indoor
END:VEVENT
BEGIN:VEVENT
DTSTART;TZID=America/New_York:20240403T170000
DTEND;TZID=America/New_York:20240403T180000
DTSTAMP:20260422T093352
CREATED:20250306T183614Z
LAST-MODIFIED:20250306T183614Z
UID:10000078-1712163600-1712167200@www.cyaasports.com
SUMMARY:Storm HS Helmig
DESCRIPTION:
URL:https://www.cyaasports.com/event/u10-candia-storm-cruz-5/
LOCATION:Turf
CATEGORIES:Indoor
END:VEVENT
BEGIN:VEVENT
DTSTART;TZID=America/New_York:20240403T180000
DTEND;TZID=America/New_York:20240403T190000
DTSTAMP:20260422T093352
CREATED:20250306T183614Z
LAST-MODIFIED:20250306T183614Z
UID:10002486-1712167200-1712170800@www.cyaasports.com
SUMMARY:Manchester Thunder Lacrosse
DESCRIPTION:
URL:https://www.cyaasports.com/event/manchester-thunder-lacrosse-9/
LOCATION:Turf
CATEGORIES:Indoor
END:VEVENT
BEGIN:VEVENT
DTSTART;TZID=America/New_York:20240403T200000
DTEND;TZID=America/New_York:20240403T213000
DTSTAMP:20260422T093352
CREATED:20250306T183614Z
LAST-MODIFIED:20250306T183614Z
UID:10000004-1712174400-1712179800@www.cyaasports.com
SUMMARY:U16 Storm Soccer
DESCRIPTION:
URL:https://www.cyaasports.com/event/u16-storm-soccer-3/
LOCATION:Turf
CATEGORIES:Indoor
END:VEVENT
BEGIN:VEVENT
DTSTART;TZID=America/New_York:20240403T200000
DTEND;TZID=America/New_York:20240403T220000
DTSTAMP:20260422T093352
CREATED:20250306T183614Z
LAST-MODIFIED:20250306T183614Z
UID:10000784-1712174400-1712181600@www.cyaasports.com
SUMMARY:Mens basketball pay to play
DESCRIPTION:
URL:https://www.cyaasports.com/event/mens-basketball-pay-to-play-5/
LOCATION:Court
CATEGORIES:Indoor
END:VEVENT
BEGIN:VEVENT
DTSTART;TZID=America/New_York:20240404T090000
DTEND;TZID=America/New_York:20240404T130000
DTSTAMP:20260422T093352
CREATED:20250306T183519Z
LAST-MODIFIED:20250306T183519Z
UID:10002424-1712221200-1712235600@www.cyaasports.com
SUMMARY:Pickle Ball Ed and Theresa
DESCRIPTION:
URL:https://www.cyaasports.com/event/pickle-ball-ed-and-theresa-3/2024-04-04/
LOCATION:Court
CATEGORIES:Indoor
END:VEVENT
BEGIN:VEVENT
DTSTART;TZID=America/New_York:20240404T173000
DTEND;TZID=America/New_York:20240404T200000
DTSTAMP:20260422T093352
CREATED:20250306T183614Z
LAST-MODIFIED:20250306T183614Z
UID:10002880-1712251800-1712260800@www.cyaasports.com
SUMMARY:Manchester Thunder Lacrosse
DESCRIPTION:
URL:https://www.cyaasports.com/event/manchester-thunder-lacrosse-10/
LOCATION:Turf
CATEGORIES:Indoor
END:VEVENT
BEGIN:VEVENT
DTSTART;TZID=America/New_York:20240404T200000
DTEND;TZID=America/New_York:20240404T220000
DTSTAMP:20260422T093352
CREATED:20250306T183514Z
LAST-MODIFIED:20250306T183514Z
UID:10001530-1712260800-1712268000@www.cyaasports.com
SUMMARY:Adult Soccer Thurs PM
DESCRIPTION:
URL:https://www.cyaasports.com/event/adult-soccer-thurs-pm/2024-04-04/
LOCATION:Turf
CATEGORIES:Indoor
END:VEVENT
BEGIN:VEVENT
DTSTART;TZID=America/New_York:20240405T090000
DTEND;TZID=America/New_York:20240405T130000
DTSTAMP:20260422T093352
CREATED:20250306T183519Z
LAST-MODIFIED:20250306T183519Z
UID:10002425-1712307600-1712322000@www.cyaasports.com
SUMMARY:Pickle Ball Ed and Theresa
DESCRIPTION:
URL:https://www.cyaasports.com/event/pickle-ball-ed-and-theresa-3/2024-04-05/
LOCATION:Court
CATEGORIES:Indoor
END:VEVENT
BEGIN:VEVENT
DTSTART;TZID=America/New_York:20240405T153000
DTEND;TZID=America/New_York:20240405T170000
DTSTAMP:20260422T093352
CREATED:20250306T183614Z
LAST-MODIFIED:20250306T183614Z
UID:10000750-1712331000-1712336400@www.cyaasports.com
SUMMARY:Kelly Espinola birthday
DESCRIPTION:
URL:https://www.cyaasports.com/event/kelly-espinola-birthday/
LOCATION:Building
CATEGORIES:Indoor
END:VEVENT
BEGIN:VEVENT
DTSTART;TZID=America/New_York:20240405T170000
DTEND;TZID=America/New_York:20240405T180000
DTSTAMP:20260422T093352
CREATED:20250306T183614Z
LAST-MODIFIED:20250306T183614Z
UID:10003281-1712336400-1712340000@www.cyaasports.com
SUMMARY:CYAA 2/3 Basketball B. Coleman
DESCRIPTION:2/3
URL:https://www.cyaasports.com/event/cyaa-2-3-basketball-b-coleman/2024-04-05/
LOCATION:Court
CATEGORIES:Indoor
END:VEVENT
BEGIN:VEVENT
DTSTART;TZID=America/New_York:20240405T170000
DTEND;TZID=America/New_York:20240405T180000
DTSTAMP:20260422T093352
CREATED:20250306T183614Z
LAST-MODIFIED:20250306T183614Z
UID:10000415-1712336400-1712340000@www.cyaasports.com
SUMMARY:U10 Stingers
DESCRIPTION:
URL:https://www.cyaasports.com/event/u10-stingers-18/
LOCATION:Turf
CATEGORIES:Indoor
END:VEVENT
BEGIN:VEVENT
DTSTART;TZID=America/New_York:20240405T180000
DTEND;TZID=America/New_York:20240405T193000
DTSTAMP:20260422T093352
CREATED:20250306T183616Z
LAST-MODIFIED:20250306T183616Z
UID:10000563-1712340000-1712345400@www.cyaasports.com
SUMMARY:Chester Baseball
DESCRIPTION:
URL:https://www.cyaasports.com/event/chester-baseball-2024-03-08/2024-04-05/
LOCATION:Turf
CATEGORIES:Indoor
END:VEVENT
BEGIN:VEVENT
DTSTART;TZID=America/New_York:20240405T180000
DTEND;TZID=America/New_York:20240405T200000
DTSTAMP:20260422T093352
CREATED:20250306T183614Z
LAST-MODIFIED:20250306T183614Z
UID:10000091-1712340000-1712347200@www.cyaasports.com
SUMMARY:CYAA 4-5 Boys Rec Green
DESCRIPTION:
URL:https://www.cyaasports.com/event/cyaa-4-5-boys-rec-green/2024-04-05/
LOCATION:Court
CATEGORIES:Indoor
END:VEVENT
BEGIN:VEVENT
DTSTART;TZID=America/New_York:20240405T193000
DTEND;TZID=America/New_York:20240405T203000
DTSTAMP:20260422T093352
CREATED:20250306T183618Z
LAST-MODIFIED:20250306T183618Z
UID:10001841-1712345400-1712349000@www.cyaasports.com
SUMMARY:U12 Stingers
DESCRIPTION:
URL:https://www.cyaasports.com/event/u12-stingers-3/2024-04-05/
LOCATION:Turf
CATEGORIES:Indoor
END:VEVENT
BEGIN:VEVENT
DTSTART;TZID=America/New_York:20240406T090000
DTEND;TZID=America/New_York:20240406T100000
DTSTAMP:20260422T093352
CREATED:20250306T183614Z
LAST-MODIFIED:20250306T183614Z
UID:10000467-1712394000-1712397600@www.cyaasports.com
SUMMARY:NYA Baseball
DESCRIPTION:
URL:https://www.cyaasports.com/event/nya-baseball-5/
LOCATION:Turf
CATEGORIES:Indoor
END:VEVENT
BEGIN:VEVENT
DTSTART;TZID=America/New_York:20240406T100000
DTEND;TZID=America/New_York:20240406T110000
DTSTAMP:20260422T093352
CREATED:20250306T183616Z
LAST-MODIFIED:20250306T183616Z
UID:10001385-1712397600-1712401200@www.cyaasports.com
SUMMARY:Chester Softball
DESCRIPTION:
URL:https://www.cyaasports.com/event/chester-softball/2024-04-06/
LOCATION:Turf
CATEGORIES:Indoor
END:VEVENT
BEGIN:VEVENT
DTSTART;TZID=America/New_York:20240406T110000
DTEND;TZID=America/New_York:20240406T133000
DTSTAMP:20260422T093352
CREATED:20250306T183614Z
LAST-MODIFIED:20250306T183614Z
UID:10001466-1712401200-1712410200@www.cyaasports.com
SUMMARY:NYA Baseball
DESCRIPTION:
URL:https://www.cyaasports.com/event/nya-baseball-4/
LOCATION:Turf
CATEGORIES:Indoor
END:VEVENT
BEGIN:VEVENT
DTSTART;TZID=America/New_York:20240406T133000
DTEND;TZID=America/New_York:20240406T150000
DTSTAMP:20260422T093352
CREATED:20250306T183614Z
LAST-MODIFIED:20250306T183614Z
UID:10002878-1712410200-1712415600@www.cyaasports.com
SUMMARY:U16 Storm Soccer
DESCRIPTION:
URL:https://www.cyaasports.com/event/u16-storm-soccer-4/
LOCATION:Turf
CATEGORIES:Indoor
END:VEVENT
END:VCALENDAR