BEGIN:VCALENDAR
VERSION:2.0
PRODID:-//CYAA - ECPv6.11.2//NONSGML v1.0//EN
CALSCALE:GREGORIAN
METHOD:PUBLISH
X-ORIGINAL-URL:https://www.cyaasports.com
X-WR-CALDESC:Events for CYAA
REFRESH-INTERVAL;VALUE=DURATION:PT1H
X-Robots-Tag:noindex
X-PUBLISHED-TTL:PT1H
BEGIN:VTIMEZONE
TZID:America/New_York
BEGIN:DAYLIGHT
TZOFFSETFROM:-0500
TZOFFSETTO:-0400
TZNAME:EDT
DTSTART:20240310T070000
END:DAYLIGHT
BEGIN:STANDARD
TZOFFSETFROM:-0400
TZOFFSETTO:-0500
TZNAME:EST
DTSTART:20241103T060000
END:STANDARD
END:VTIMEZONE
BEGIN:VEVENT
DTSTART;TZID=America/New_York:20240714T080000
DTEND;TZID=America/New_York:20240714T100000
DTSTAMP:20260422T094112
CREATED:20250306T183710Z
LAST-MODIFIED:20250306T183710Z
UID:10003991-1720944000-1720951200@www.cyaasports.com
SUMMARY:Men’s Basketball pay to play
DESCRIPTION:
URL:https://www.cyaasports.com/event/mens-basketball-pay-to-play-2/2024-07-14/
LOCATION:Court
CATEGORIES:Indoor
END:VEVENT
BEGIN:VEVENT
DTSTART;TZID=America/New_York:20240714T180000
DTEND;TZID=America/New_York:20240714T203000
DTSTAMP:20260422T094112
CREATED:20250306T183711Z
LAST-MODIFIED:20250306T183711Z
UID:10002690-1720980000-1720989000@www.cyaasports.com
SUMMARY:Adult volleyball pay to play
DESCRIPTION:Adult voll
URL:https://www.cyaasports.com/event/adult-volleyball-pay-to-play/2024-07-14/
LOCATION:Turf
CATEGORIES:Indoor
END:VEVENT
BEGIN:VEVENT
DTSTART;TZID=America/New_York:20240715T090000
DTEND;TZID=America/New_York:20240715T130000
DTSTAMP:20260422T094112
CREATED:20250306T183712Z
LAST-MODIFIED:20250402T203838Z
UID:10001106-1721034000-1721048400@www.cyaasports.com
SUMMARY:Pickleball Sterling
DESCRIPTION:
URL:https://www.cyaasports.com/event/summer-pickleball/2024-07-15/
LOCATION:Court
CATEGORIES:Indoor
END:VEVENT
BEGIN:VEVENT
DTSTART;TZID=America/New_York:20240715T180000
DTEND;TZID=America/New_York:20240715T200000
DTSTAMP:20260422T094112
CREATED:20250306T183711Z
LAST-MODIFIED:20250306T183711Z
UID:10001965-1721066400-1721073600@www.cyaasports.com
SUMMARY:Summer Basketball
DESCRIPTION:
URL:https://www.cyaasports.com/event/summer-basketball/2024-07-15/
LOCATION:Court
CATEGORIES:Indoor
END:VEVENT
BEGIN:VEVENT
DTSTART;TZID=America/New_York:20240716T053000
DTEND;TZID=America/New_York:20240716T063000
DTSTAMP:20260422T094112
CREATED:20250306T183710Z
LAST-MODIFIED:20250306T183710Z
UID:10001486-1721107800-1721111400@www.cyaasports.com
SUMMARY:Functional Strength - Morning Workout
DESCRIPTION:
URL:https://www.cyaasports.com/event/functional-strength-morning-workout-2/2024-07-16/
LOCATION:Turf
CATEGORIES:Indoor
END:VEVENT
BEGIN:VEVENT
DTSTART;TZID=America/New_York:20240716T090000
DTEND;TZID=America/New_York:20240716T130000
DTSTAMP:20260422T094112
CREATED:20250306T183712Z
LAST-MODIFIED:20250402T203838Z
UID:10001107-1721120400-1721134800@www.cyaasports.com
SUMMARY:Pickleball Sterling
DESCRIPTION:
URL:https://www.cyaasports.com/event/summer-pickleball/2024-07-16/
LOCATION:Court
CATEGORIES:Indoor
END:VEVENT
BEGIN:VEVENT
DTSTART;TZID=America/New_York:20240716T173000
DTEND;TZID=America/New_York:20240716T193000
DTSTAMP:20260422T094112
CREATED:20250306T183709Z
LAST-MODIFIED:20250306T183709Z
UID:10000558-1721151000-1721158200@www.cyaasports.com
SUMMARY:Jim Baum Basketball
DESCRIPTION:
URL:https://www.cyaasports.com/event/jim-baumgartner-basketball/
LOCATION:Court
CATEGORIES:Indoor
END:VEVENT
BEGIN:VEVENT
DTSTART;TZID=America/New_York:20240716T193000
DTEND;TZID=America/New_York:20240716T220000
DTSTAMP:20260422T094112
CREATED:20250306T183709Z
LAST-MODIFIED:20250306T183709Z
UID:10000485-1721158200-1721167200@www.cyaasports.com
SUMMARY:Pay to play adult BBall
DESCRIPTION:
URL:https://www.cyaasports.com/event/pay-to-play-adult-bball/
LOCATION:Court
CATEGORIES:Indoor
END:VEVENT
BEGIN:VEVENT
DTSTART;TZID=America/New_York:20240717T090000
DTEND;TZID=America/New_York:20240717T130000
DTSTAMP:20260422T094112
CREATED:20250306T183712Z
LAST-MODIFIED:20250402T203838Z
UID:10001108-1721206800-1721221200@www.cyaasports.com
SUMMARY:Pickleball Sterling
DESCRIPTION:
URL:https://www.cyaasports.com/event/summer-pickleball/2024-07-17/
LOCATION:Court
CATEGORIES:Indoor
END:VEVENT
BEGIN:VEVENT
DTSTART;TZID=America/New_York:20240717T170000
DTEND;TZID=America/New_York:20240717T180000
DTSTAMP:20260422T094112
CREATED:20250306T183709Z
LAST-MODIFIED:20250306T183709Z
UID:10000082-1721235600-1721239200@www.cyaasports.com
SUMMARY:Lamprey River all stars baseball Matt Laroche
DESCRIPTION:
URL:https://www.cyaasports.com/event/lamprey-river-all-stars-baseball-matt-laroche/
LOCATION:Turf
CATEGORIES:Indoor
END:VEVENT
BEGIN:VEVENT
DTSTART;TZID=America/New_York:20240717T173000
DTEND;TZID=America/New_York:20240717T203000
DTSTAMP:20260422T094112
CREATED:20250306T183712Z
LAST-MODIFIED:20250306T183712Z
UID:10001456-1721237400-1721248200@www.cyaasports.com
SUMMARY:Ameri-Kids
DESCRIPTION:
URL:https://www.cyaasports.com/event/ameri-kids-17/2024-07-17/
LOCATION:Court
CATEGORIES:Indoor
END:VEVENT
BEGIN:VEVENT
DTSTART;TZID=America/New_York:20240718T053000
DTEND;TZID=America/New_York:20240718T063000
DTSTAMP:20260422T094112
CREATED:20250306T183710Z
LAST-MODIFIED:20250306T183710Z
UID:10000583-1721280600-1721284200@www.cyaasports.com
SUMMARY:Functional Strength - Morning Workout
DESCRIPTION:
URL:https://www.cyaasports.com/event/functional-strength-morning-workout-3/2024-07-18/
LOCATION:Turf
CATEGORIES:Indoor
END:VEVENT
BEGIN:VEVENT
DTSTART;TZID=America/New_York:20240718T090000
DTEND;TZID=America/New_York:20240718T130000
DTSTAMP:20260422T094112
CREATED:20250306T183712Z
LAST-MODIFIED:20250402T203838Z
UID:10001109-1721293200-1721307600@www.cyaasports.com
SUMMARY:Pickleball Sterling
DESCRIPTION:
URL:https://www.cyaasports.com/event/summer-pickleball/2024-07-18/
LOCATION:Court
CATEGORIES:Indoor
END:VEVENT
BEGIN:VEVENT
DTSTART;TZID=America/New_York:20240718T170000
DTEND;TZID=America/New_York:20240718T190000
DTSTAMP:20260422T094112
CREATED:20250306T183712Z
LAST-MODIFIED:20250306T183712Z
UID:10000779-1721322000-1721329200@www.cyaasports.com
SUMMARY:JIH Basketball training
DESCRIPTION:
URL:https://www.cyaasports.com/event/jih-basketball-training/2024-07-18/
LOCATION:Court
CATEGORIES:Indoor
END:VEVENT
BEGIN:VEVENT
DTSTART;TZID=America/New_York:20240719T090000
DTEND;TZID=America/New_York:20240719T130000
DTSTAMP:20260422T094112
CREATED:20250306T183712Z
LAST-MODIFIED:20250402T203838Z
UID:10001110-1721379600-1721394000@www.cyaasports.com
SUMMARY:Pickleball Sterling
DESCRIPTION:
URL:https://www.cyaasports.com/event/summer-pickleball/2024-07-19/
LOCATION:Court
CATEGORIES:Indoor
END:VEVENT
BEGIN:VEVENT
DTSTART;TZID=America/New_York:20240720T123000
DTEND;TZID=America/New_York:20240720T143000
DTSTAMP:20260422T094112
CREATED:20250306T183709Z
LAST-MODIFIED:20250306T183709Z
UID:10000069-1721478600-1721485800@www.cyaasports.com
SUMMARY:JIH training
DESCRIPTION:
URL:https://www.cyaasports.com/event/jih-training-3-2024-07-19/
LOCATION:Court
CATEGORIES:Indoor
END:VEVENT
END:VCALENDAR