BEGIN:VCALENDAR
VERSION:2.0
PRODID:-//CYAA - ECPv6.11.2//NONSGML v1.0//EN
CALSCALE:GREGORIAN
METHOD:PUBLISH
X-ORIGINAL-URL:https://www.cyaasports.com
X-WR-CALDESC:Events for CYAA
REFRESH-INTERVAL;VALUE=DURATION:PT1H
X-Robots-Tag:noindex
X-PUBLISHED-TTL:PT1H
BEGIN:VTIMEZONE
TZID:America/New_York
BEGIN:DAYLIGHT
TZOFFSETFROM:-0500
TZOFFSETTO:-0400
TZNAME:EDT
DTSTART:20240310T070000
END:DAYLIGHT
BEGIN:STANDARD
TZOFFSETFROM:-0400
TZOFFSETTO:-0500
TZNAME:EST
DTSTART:20241103T060000
END:STANDARD
END:VTIMEZONE
BEGIN:VEVENT
DTSTART;TZID=America/New_York:20241124T080000
DTEND;TZID=America/New_York:20241124T100000
DTSTAMP:20260421T092131
CREATED:20250306T183710Z
LAST-MODIFIED:20250306T183710Z
UID:10004010-1732435200-1732442400@www.cyaasports.com
SUMMARY:Men’s Basketball pay to play
DESCRIPTION:
URL:https://www.cyaasports.com/event/mens-basketball-pay-to-play-2/2024-11-24/
LOCATION:Court
CATEGORIES:Indoor
END:VEVENT
BEGIN:VEVENT
DTSTART;TZID=America/New_York:20241124T090000
DTEND;TZID=America/New_York:20241124T111500
DTSTAMP:20260421T092131
CREATED:20250306T183335Z
LAST-MODIFIED:20250306T183335Z
UID:10004167-1732438800-1732446900@www.cyaasports.com
SUMMARY:Soccer Shots: Fall 2.0
DESCRIPTION:
URL:https://www.cyaasports.com/event/soccer-shots-fall-2-0/2024-11-24/
LOCATION:Turf
CATEGORIES:Indoor
ORGANIZER;CN="Jason Gustin":MAILTO:soccer@cyaasports.com
END:VEVENT
BEGIN:VEVENT
DTSTART;TZID=America/New_York:20241124T110000
DTEND;TZID=America/New_York:20241124T120000
DTSTAMP:20260421T092131
CREATED:20250306T183333Z
LAST-MODIFIED:20250306T183333Z
UID:10004324-1732446000-1732449600@www.cyaasports.com
SUMMARY:Sutton Team Sweat
DESCRIPTION:
URL:https://www.cyaasports.com/event/sutton-team-sweat/
LOCATION:Court
CATEGORIES:Indoor
END:VEVENT
BEGIN:VEVENT
DTSTART;TZID=America/New_York:20241124T151500
DTEND;TZID=America/New_York:20241124T200000
DTSTAMP:20260421T092131
CREATED:20250306T183703Z
LAST-MODIFIED:20250306T183703Z
UID:10003500-1732461300-1732478400@www.cyaasports.com
SUMMARY:Ameri-Kids
DESCRIPTION:
URL:https://www.cyaasports.com/event/ameri-kids-27-2024-09-15/2024-11-24/
LOCATION:Court
CATEGORIES:Indoor
END:VEVENT
BEGIN:VEVENT
DTSTART;TZID=America/New_York:20241124T180000
DTEND;TZID=America/New_York:20241124T203000
DTSTAMP:20260421T092131
CREATED:20250306T183711Z
LAST-MODIFIED:20250306T183711Z
UID:10002709-1732471200-1732480200@www.cyaasports.com
SUMMARY:Adult volleyball pay to play
DESCRIPTION:Adult voll
URL:https://www.cyaasports.com/event/adult-volleyball-pay-to-play/2024-11-24/
LOCATION:Turf
CATEGORIES:Indoor
END:VEVENT
BEGIN:VEVENT
DTSTART;TZID=America/New_York:20241125T090000
DTEND;TZID=America/New_York:20241125T130000
DTSTAMP:20260421T092131
CREATED:20250306T183712Z
LAST-MODIFIED:20250402T203838Z
UID:10001198-1732525200-1732539600@www.cyaasports.com
SUMMARY:Pickleball Sterling
DESCRIPTION:
URL:https://www.cyaasports.com/event/summer-pickleball/2024-11-25/
LOCATION:Court
CATEGORIES:Indoor
END:VEVENT
BEGIN:VEVENT
DTSTART;TZID=America/New_York:20241125T150000
DTEND;TZID=America/New_York:20241125T170000
DTSTAMP:20260421T092131
CREATED:20250306T183702Z
LAST-MODIFIED:20250306T183702Z
UID:10001595-1732546800-1732554000@www.cyaasports.com
SUMMARY:jesse Remington basketball Practice
DESCRIPTION:
URL:https://www.cyaasports.com/event/jesse-remington-basketball-practice-30/2024-11-25/
LOCATION:Court
CATEGORIES:Indoor
END:VEVENT
BEGIN:VEVENT
DTSTART;TZID=America/New_York:20241125T170000
DTEND;TZID=America/New_York:20241125T180000
DTSTAMP:20260421T092131
CREATED:20250306T183332Z
LAST-MODIFIED:20250306T183332Z
UID:10004325-1732554000-1732557600@www.cyaasports.com
SUMMARY:CYAA basketball Stevens 7/8 B
DESCRIPTION:
URL:https://www.cyaasports.com/event/cyaa-basketball-stevens-7-8-b/2024-11-25/
LOCATION:Court
CATEGORIES:Indoor
END:VEVENT
BEGIN:VEVENT
DTSTART;TZID=America/New_York:20241125T180000
DTEND;TZID=America/New_York:20241125T190000
DTSTAMP:20260421T092131
CREATED:20250306T183334Z
LAST-MODIFIED:20250306T183334Z
UID:10004343-1732557600-1732561200@www.cyaasports.com
SUMMARY:CYAA Basketball Coleman 5/6 Boys (2)
DESCRIPTION:
URL:https://www.cyaasports.com/event/cya-basketball-coleman-5-6-boys-2/2024-11-25/
LOCATION:Court
CATEGORIES:Indoor
END:VEVENT
BEGIN:VEVENT
DTSTART;TZID=America/New_York:20241125T190000
DTEND;TZID=America/New_York:20241125T200000
DTSTAMP:20260421T092131
CREATED:20250306T183332Z
LAST-MODIFIED:20250306T183332Z
UID:10004360-1732561200-1732564800@www.cyaasports.com
SUMMARY:CYAA basketball Team Baum 7/8 G
DESCRIPTION:
URL:https://www.cyaasports.com/event/cyaa-basketball-team-baum-7-8-g/2024-11-25/
LOCATION:Court
CATEGORIES:Indoor
END:VEVENT
BEGIN:VEVENT
DTSTART;TZID=America/New_York:20241126T090000
DTEND;TZID=America/New_York:20241126T130000
DTSTAMP:20260421T092131
CREATED:20250306T183712Z
LAST-MODIFIED:20250402T203838Z
UID:10001199-1732611600-1732626000@www.cyaasports.com
SUMMARY:Pickleball Sterling
DESCRIPTION:
URL:https://www.cyaasports.com/event/summer-pickleball/2024-11-26/
LOCATION:Court
CATEGORIES:Indoor
END:VEVENT
BEGIN:VEVENT
DTSTART;TZID=America/New_York:20241126T170000
DTEND;TZID=America/New_York:20241126T180000
DTSTAMP:20260421T092131
CREATED:20250306T183332Z
LAST-MODIFIED:20250306T183332Z
UID:10004377-1732640400-1732644000@www.cyaasports.com
SUMMARY:CYAA basketball Frye 5/6 Girls (2)
DESCRIPTION:
URL:https://www.cyaasports.com/event/cyaa-basketball-frye-5-6-girls-2/2024-11-26/
LOCATION:Court
CATEGORIES:Indoor
END:VEVENT
BEGIN:VEVENT
DTSTART;TZID=America/New_York:20241126T180000
DTEND;TZID=America/New_York:20241126T190000
DTSTAMP:20260421T092131
CREATED:20250306T183332Z
LAST-MODIFIED:20250306T183332Z
UID:10004394-1732644000-1732647600@www.cyaasports.com
SUMMARY:CYAA basketball Coleman 3/4 Boys (2)
DESCRIPTION:
URL:https://www.cyaasports.com/event/cyaa-basketball-coleman-3-4-boys-2/2024-11-26/
LOCATION:Court
CATEGORIES:Indoor
END:VEVENT
BEGIN:VEVENT
DTSTART;TZID=America/New_York:20241126T180000
DTEND;TZID=America/New_York:20241126T200000
DTSTAMP:20260421T092131
CREATED:20250306T183332Z
LAST-MODIFIED:20250306T183332Z
UID:10000510-1732644000-1732651200@www.cyaasports.com
SUMMARY:U8 / U11 Storm - Gustin
DESCRIPTION:
URL:https://www.cyaasports.com/event/u8-u11-storm-gustin/
LOCATION:Turf
CATEGORIES:Indoor
ORGANIZER;CN="Jason Gustin":MAILTO:soccer@cyaasports.com
END:VEVENT
BEGIN:VEVENT
DTSTART;TZID=America/New_York:20241126T190000
DTEND;TZID=America/New_York:20241126T200000
DTSTAMP:20260421T092131
CREATED:20250306T183332Z
LAST-MODIFIED:20250306T183332Z
UID:10002746-1732647600-1732651200@www.cyaasports.com
SUMMARY:CYAA basketball Stevens 7/8 B (2)
DESCRIPTION:
URL:https://www.cyaasports.com/event/cyaa-basketball-stevens-7-8-b-2/2024-11-26/
LOCATION:Court
CATEGORIES:Indoor
END:VEVENT
BEGIN:VEVENT
DTSTART;TZID=America/New_York:20241127T090000
DTEND;TZID=America/New_York:20241127T130000
DTSTAMP:20260421T092131
CREATED:20250306T183712Z
LAST-MODIFIED:20250402T203838Z
UID:10001200-1732698000-1732712400@www.cyaasports.com
SUMMARY:Pickleball Sterling
DESCRIPTION:
URL:https://www.cyaasports.com/event/summer-pickleball/2024-11-27/
LOCATION:Court
CATEGORIES:Indoor
END:VEVENT
BEGIN:VEVENT
DTSTART;TZID=America/New_York:20241127T150000
DTEND;TZID=America/New_York:20241127T170000
DTSTAMP:20260421T092131
CREATED:20250306T183332Z
LAST-MODIFIED:20250306T183332Z
UID:10002685-1732719600-1732726800@www.cyaasports.com
SUMMARY:HMS Boys Basketball
DESCRIPTION:
URL:https://www.cyaasports.com/event/hms-boys-basketball-2/
LOCATION:Court
CATEGORIES:Indoor
END:VEVENT
BEGIN:VEVENT
DTSTART;TZID=America/New_York:20241127T170000
DTEND;TZID=America/New_York:20241127T180000
DTSTAMP:20260421T092131
CREATED:20250306T183334Z
LAST-MODIFIED:20250306T183334Z
UID:10004412-1732726800-1732730400@www.cyaasports.com
SUMMARY:CYAA basketball FRYE 5/6 G
DESCRIPTION:
URL:https://www.cyaasports.com/event/cyaa-basketball-frye-5-6-g/2024-11-27/
LOCATION:Court
CATEGORIES:Indoor
END:VEVENT
BEGIN:VEVENT
DTSTART;TZID=America/New_York:20241127T173000
DTEND;TZID=America/New_York:20241127T183000
DTSTAMP:20260421T092131
CREATED:20250306T183335Z
LAST-MODIFIED:20250306T183335Z
UID:10000834-1732728600-1732732200@www.cyaasports.com
SUMMARY:U11 Cruz Storm Skills Session
DESCRIPTION:
URL:https://www.cyaasports.com/event/u11-cruz-storm-skills-session/2024-11-27/
LOCATION:Turf
CATEGORIES:Indoor
END:VEVENT
BEGIN:VEVENT
DTSTART;TZID=America/New_York:20241127T180000
DTEND;TZID=America/New_York:20241127T190000
DTSTAMP:20260421T092131
CREATED:20250306T183334Z
LAST-MODIFIED:20250306T183334Z
UID:10004430-1732730400-1732734000@www.cyaasports.com
SUMMARY:CYAA basketball Team Baum 7/8 G (2)
DESCRIPTION:
URL:https://www.cyaasports.com/event/cyaa-basketball-team-baum-7-8-g-2/2024-11-27/
LOCATION:Court
CATEGORIES:Indoor
END:VEVENT
BEGIN:VEVENT
DTSTART;TZID=America/New_York:20241127T190000
DTEND;TZID=America/New_York:20241127T200000
DTSTAMP:20260421T092131
CREATED:20250306T183334Z
LAST-MODIFIED:20250306T183334Z
UID:10004447-1732734000-1732737600@www.cyaasports.com
SUMMARY:CYAA basketball Team Sweatt 7/8 B
DESCRIPTION:
URL:https://www.cyaasports.com/event/cyaa-basketball-team-sweatt-7-8-b/2024-11-27/
LOCATION:Court
CATEGORIES:Indoor
END:VEVENT
BEGIN:VEVENT
DTSTART;TZID=America/New_York:20241127T190000
DTEND;TZID=America/New_York:20241127T210000
DTSTAMP:20260421T092131
CREATED:20250306T183332Z
LAST-MODIFIED:20250306T183332Z
UID:10000587-1732734000-1732741200@www.cyaasports.com
SUMMARY:Soccer Kick Around
DESCRIPTION:
URL:https://www.cyaasports.com/event/soccer-kick-around/
LOCATION:Turf
CATEGORIES:Indoor
ORGANIZER;CN="Jason Gustin":MAILTO:soccer@cyaasports.com
END:VEVENT
BEGIN:VEVENT
DTSTART;TZID=America/New_York:20241128T090000
DTEND;TZID=America/New_York:20241128T130000
DTSTAMP:20260421T092131
CREATED:20250306T183712Z
LAST-MODIFIED:20250402T203838Z
UID:10001201-1732784400-1732798800@www.cyaasports.com
SUMMARY:Pickleball Sterling
DESCRIPTION:
URL:https://www.cyaasports.com/event/summer-pickleball/2024-11-28/
LOCATION:Court
CATEGORIES:Indoor
END:VEVENT
BEGIN:VEVENT
DTSTART;TZID=America/New_York:20241128T170000
DTEND;TZID=America/New_York:20241128T180000
DTSTAMP:20260421T092131
CREATED:20250306T183333Z
LAST-MODIFIED:20250306T183333Z
UID:10004465-1732813200-1732816800@www.cyaasports.com
SUMMARY:CYAA basketball Thiboult 3/4 G
DESCRIPTION:
URL:https://www.cyaasports.com/event/cyaa-basketball-thiboult-3-4-g/2024-11-28/
LOCATION:Court
CATEGORIES:Indoor
END:VEVENT
BEGIN:VEVENT
DTSTART;TZID=America/New_York:20241128T180000
DTEND;TZID=America/New_York:20241128T190000
DTSTAMP:20260421T092131
CREATED:20250306T183333Z
LAST-MODIFIED:20250306T183333Z
UID:10004482-1732816800-1732820400@www.cyaasports.com
SUMMARY:CYAA basketball Coleman 3/4 B
DESCRIPTION:
URL:https://www.cyaasports.com/event/cyaa-basketball-coleman-3-4-b-4/2024-11-28/
LOCATION:Court
CATEGORIES:Indoor
END:VEVENT
BEGIN:VEVENT
DTSTART;TZID=America/New_York:20241128T190000
DTEND;TZID=America/New_York:20241128T200000
DTSTAMP:20260421T092131
CREATED:20250306T183333Z
LAST-MODIFIED:20250306T183333Z
UID:10002767-1732820400-1732824000@www.cyaasports.com
SUMMARY:CYAA basketball Coleman 5/6 B
DESCRIPTION:
URL:https://www.cyaasports.com/event/cyaa-basketball-coleman-5-6-b-2024-11-28/2024-11-28/
LOCATION:Court
CATEGORIES:Indoor
END:VEVENT
BEGIN:VEVENT
DTSTART;TZID=America/New_York:20241129T090000
DTEND;TZID=America/New_York:20241129T130000
DTSTAMP:20260421T092131
CREATED:20250306T183712Z
LAST-MODIFIED:20250402T203838Z
UID:10001202-1732870800-1732885200@www.cyaasports.com
SUMMARY:Pickleball Sterling
DESCRIPTION:
URL:https://www.cyaasports.com/event/summer-pickleball/2024-11-29/
LOCATION:Court
CATEGORIES:Indoor
END:VEVENT
BEGIN:VEVENT
DTSTART;TZID=America/New_York:20241129T100000
DTEND;TZID=America/New_York:20241129T120000
DTSTAMP:20260421T092131
CREATED:20250306T183332Z
LAST-MODIFIED:20250306T183332Z
UID:10002002-1732874400-1732881600@www.cyaasports.com
SUMMARY:Nicole Cate
DESCRIPTION:
URL:https://www.cyaasports.com/event/nicole-cate/
LOCATION:Turf
CATEGORIES:Indoor
END:VEVENT
BEGIN:VEVENT
DTSTART;TZID=America/New_York:20241129T180000
DTEND;TZID=America/New_York:20241129T200000
DTSTAMP:20260421T092131
CREATED:20250306T183332Z
LAST-MODIFIED:20250306T183332Z
UID:10004219-1732903200-1732910400@www.cyaasports.com
SUMMARY:Birthday C. Green
DESCRIPTION:
URL:https://www.cyaasports.com/event/pending-c-green/
LOCATION:Building
CATEGORIES:Indoor
END:VEVENT
BEGIN:VEVENT
DTSTART;TZID=America/New_York:20241130T090000
DTEND;TZID=America/New_York:20241130T111500
DTSTAMP:20260421T092131
CREATED:20250306T183331Z
LAST-MODIFIED:20250306T183331Z
UID:10004319-1732957200-1732965300@www.cyaasports.com
SUMMARY:CYAA basketball K-2 Coach Mckenna
DESCRIPTION:
URL:https://www.cyaasports.com/event/cyaa-basketball-k-2-coach-mckenna/
LOCATION:Court
CATEGORIES:Indoor
END:VEVENT
END:VCALENDAR