BEGIN:VCALENDAR
VERSION:2.0
PRODID:-//CYAA - ECPv6.11.2//NONSGML v1.0//EN
CALSCALE:GREGORIAN
METHOD:PUBLISH
X-ORIGINAL-URL:https://www.cyaasports.com
X-WR-CALDESC:Events for CYAA
REFRESH-INTERVAL;VALUE=DURATION:PT1H
X-Robots-Tag:noindex
X-PUBLISHED-TTL:PT1H
BEGIN:VTIMEZONE
TZID:America/New_York
BEGIN:DAYLIGHT
TZOFFSETFROM:-0500
TZOFFSETTO:-0400
TZNAME:EDT
DTSTART:20240310T070000
END:DAYLIGHT
BEGIN:STANDARD
TZOFFSETFROM:-0400
TZOFFSETTO:-0500
TZNAME:EST
DTSTART:20241103T060000
END:STANDARD
END:VTIMEZONE
BEGIN:VEVENT
DTSTART;TZID=America/New_York:20240601T090000
DTEND;TZID=America/New_York:20240601T113000
DTSTAMP:20260422T091636
CREATED:20250306T183716Z
LAST-MODIFIED:20250306T183716Z
UID:10000747-1717232400-1717241400@www.cyaasports.com
SUMMARY:CYAA T-ball
DESCRIPTION:
URL:https://www.cyaasports.com/event/cyaa-t-ball-2/2024-06-01/
LOCATION:Turf
CATEGORIES:Indoor
END:VEVENT
BEGIN:VEVENT
DTSTART;TZID=America/New_York:20240601T090000
DTEND;TZID=America/New_York:20240601T120000
DTSTAMP:20260422T091636
CREATED:20250306T183715Z
LAST-MODIFIED:20250306T183715Z
UID:10003463-1717232400-1717243200@www.cyaasports.com
SUMMARY:CYAA T-ball
DESCRIPTION:
URL:https://www.cyaasports.com/event/cyaa-t-ball-4/2024-06-01/
LOCATION:Baseball 1
CATEGORIES:Outdoor
END:VEVENT
BEGIN:VEVENT
DTSTART;TZID=America/New_York:20240601T150000
DTEND;TZID=America/New_York:20240601T170000
DTSTAMP:20260422T091636
CREATED:20250306T183714Z
LAST-MODIFIED:20250306T183714Z
UID:10000478-1717254000-1717261200@www.cyaasports.com
SUMMARY:AAA Game - Nottingham @ Aub/Can
DESCRIPTION:
URL:https://www.cyaasports.com/event/aaa-game-nottingham-aub-can/
LOCATION:Baseball 1
CATEGORIES:Outdoor
END:VEVENT
BEGIN:VEVENT
DTSTART;TZID=America/New_York:20240602T080000
DTEND;TZID=America/New_York:20240602T100000
DTSTAMP:20260422T091636
CREATED:20250306T183623Z
LAST-MODIFIED:20250306T183623Z
UID:10000142-1717315200-1717322400@www.cyaasports.com
SUMMARY:Men's basketball pay to play
DESCRIPTION:
URL:https://www.cyaasports.com/event/mens-basketball-pay-to-play-3/2024-06-02/
LOCATION:Court
CATEGORIES:Indoor
END:VEVENT
BEGIN:VEVENT
DTSTART;TZID=America/New_York:20240602T170000
DTEND;TZID=America/New_York:20240602T200000
DTSTAMP:20260422T091636
CREATED:20250306T183714Z
LAST-MODIFIED:20250306T183714Z
UID:10000511-1717347600-1717358400@www.cyaasports.com
SUMMARY:Ameri-Kids
DESCRIPTION:
URL:https://www.cyaasports.com/event/ameri-kids-18/
LOCATION:Court
CATEGORIES:Indoor
END:VEVENT
BEGIN:VEVENT
DTSTART;TZID=America/New_York:20240603T090000
DTEND;TZID=America/New_York:20240603T130000
DTSTAMP:20260422T091636
CREATED:20250306T183712Z
LAST-MODIFIED:20250402T203838Z
UID:10001078-1717405200-1717419600@www.cyaasports.com
SUMMARY:Pickleball Sterling
DESCRIPTION:
URL:https://www.cyaasports.com/event/summer-pickleball/2024-06-03/
LOCATION:Court
CATEGORIES:Indoor
END:VEVENT
BEGIN:VEVENT
DTSTART;TZID=America/New_York:20240603T163000
DTEND;TZID=America/New_York:20240603T174500
DTSTAMP:20260422T091636
CREATED:20250306T183716Z
LAST-MODIFIED:20250306T183716Z
UID:10000285-1717432200-1717436700@www.cyaasports.com
SUMMARY:HS Storm Practice
DESCRIPTION:
URL:https://www.cyaasports.com/event/hs-storm-practice-2/2024-06-03/
LOCATION:Soccer – Rotary Field\, 27 Raymond Road\, Candia\, NH\, 03034\, United States
CATEGORIES:Outdoor
END:VEVENT
BEGIN:VEVENT
DTSTART;TZID=America/New_York:20240603T170000
DTEND;TZID=America/New_York:20240603T180000
DTSTAMP:20260422T091636
CREATED:20250306T183715Z
LAST-MODIFIED:20250306T183715Z
UID:10000363-1717434000-1717437600@www.cyaasports.com
SUMMARY:U10 Stingers Practice
DESCRIPTION:
URL:https://www.cyaasports.com/event/u10-stingers-practice-3-2/2024-06-03/
LOCATION:Soccer – Small Field
CATEGORIES:Outdoor
END:VEVENT
BEGIN:VEVENT
DTSTART;TZID=America/New_York:20240603T180000
DTEND;TZID=America/New_York:20240603T190000
DTSTAMP:20260422T091636
CREATED:20250306T183715Z
LAST-MODIFIED:20250306T183715Z
UID:10000379-1717437600-1717441200@www.cyaasports.com
SUMMARY:U10 Storm Practice - Gustin
DESCRIPTION:
URL:https://www.cyaasports.com/event/u10-storm-practice-gustin-2/2024-06-03/
LOCATION:Soccer – Small Field
CATEGORIES:Outdoor
END:VEVENT
BEGIN:VEVENT
DTSTART;TZID=America/New_York:20240603T180000
DTEND;TZID=America/New_York:20240603T190000
DTSTAMP:20260422T091636
CREATED:20250306T183717Z
LAST-MODIFIED:20250306T183717Z
UID:10000796-1717437600-1717441200@www.cyaasports.com
SUMMARY:U12 Storm Practice
DESCRIPTION:
URL:https://www.cyaasports.com/event/u12-storm-practice-2/2024-06-03/
LOCATION:Soccer – Orig. Large Field
CATEGORIES:Outdoor
END:VEVENT
BEGIN:VEVENT
DTSTART;TZID=America/New_York:20240603T183000
DTEND;TZID=America/New_York:20240603T200000
DTSTAMP:20260422T091636
CREATED:20250306T183615Z
LAST-MODIFIED:20250306T183615Z
UID:10000026-1717439400-1717444800@www.cyaasports.com
SUMMARY:NH Spartans Basketball
DESCRIPTION:
URL:https://www.cyaasports.com/event/nh-spartans-basketball/2024-06-03/
LOCATION:Court
CATEGORIES:Indoor
END:VEVENT
BEGIN:VEVENT
DTSTART;TZID=America/New_York:20240603T190000
DTEND;TZID=America/New_York:20240603T200000
DTSTAMP:20260422T091636
CREATED:20250306T183715Z
LAST-MODIFIED:20250306T183715Z
UID:10000771-1717441200-1717444800@www.cyaasports.com
SUMMARY:U16 Storm Practice
DESCRIPTION:
URL:https://www.cyaasports.com/event/u16-storm-practice-2/2024-06-03/
LOCATION:Soccer – Orig. Large Field
CATEGORIES:Outdoor
END:VEVENT
BEGIN:VEVENT
DTSTART;TZID=America/New_York:20240603T203000
DTEND;TZID=America/New_York:20240603T223000
DTSTAMP:20260422T091636
CREATED:20250306T183712Z
LAST-MODIFIED:20250306T183712Z
UID:10000577-1717446600-1717453800@www.cyaasports.com
SUMMARY:Men’s pay to play 2
DESCRIPTION:
URL:https://www.cyaasports.com/event/mens-pay-to-play-2/
LOCATION:Court
CATEGORIES:Indoor
END:VEVENT
BEGIN:VEVENT
DTSTART;TZID=America/New_York:20240604T090000
DTEND;TZID=America/New_York:20240604T130000
DTSTAMP:20260422T091636
CREATED:20250306T183712Z
LAST-MODIFIED:20250402T203838Z
UID:10001079-1717491600-1717506000@www.cyaasports.com
SUMMARY:Pickleball Sterling
DESCRIPTION:
URL:https://www.cyaasports.com/event/summer-pickleball/2024-06-04/
LOCATION:Court
CATEGORIES:Indoor
END:VEVENT
BEGIN:VEVENT
DTSTART;TZID=America/New_York:20240604T163000
DTEND;TZID=America/New_York:20240604T180000
DTSTAMP:20260422T091636
CREATED:20250306T183715Z
LAST-MODIFIED:20250306T183715Z
UID:10001471-1717518600-1717524000@www.cyaasports.com
SUMMARY:AA Practice
DESCRIPTION:
URL:https://www.cyaasports.com/event/aa-practice/2024-06-04/
LOCATION:Baseball 1
CATEGORIES:Outdoor
END:VEVENT
BEGIN:VEVENT
DTSTART;TZID=America/New_York:20240604T170000
DTEND;TZID=America/New_York:20240604T180000
DTSTAMP:20260422T091636
CREATED:20250306T183715Z
LAST-MODIFIED:20250306T183715Z
UID:10000218-1717520400-1717524000@www.cyaasports.com
SUMMARY:U10 Storm Practice - Cruz
DESCRIPTION:
URL:https://www.cyaasports.com/event/u10-storm-practice-cruz-2/2024-06-04/
LOCATION:Soccer – Small Field
CATEGORIES:Outdoor
END:VEVENT
BEGIN:VEVENT
DTSTART;TZID=America/New_York:20240604T170000
DTEND;TZID=America/New_York:20240604T181500
DTSTAMP:20260422T091636
CREATED:20250306T183716Z
LAST-MODIFIED:20250306T183716Z
UID:10000274-1717520400-1717524900@www.cyaasports.com
SUMMARY:U15 / HS Stingers Practice
DESCRIPTION:
URL:https://www.cyaasports.com/event/u15-hs-stingers/2024-06-04/
LOCATION:Soccer – Rotary Field\, 27 Raymond Road\, Candia\, NH\, 03034\, United States
CATEGORIES:Outdoor
END:VEVENT
BEGIN:VEVENT
DTSTART;TZID=America/New_York:20240604T180000
DTEND;TZID=America/New_York:20240604T190000
DTSTAMP:20260422T091636
CREATED:20250306T183712Z
LAST-MODIFIED:20250306T183712Z
UID:10002877-1717524000-1717527600@www.cyaasports.com
SUMMARY:CYAA T-ball
DESCRIPTION:
URL:https://www.cyaasports.com/event/cyaa-t-ball-5/
LOCATION:Baseball 1
CATEGORIES:Outdoor
END:VEVENT
BEGIN:VEVENT
DTSTART;TZID=America/New_York:20240604T180000
DTEND;TZID=America/New_York:20240604T190000
DTSTAMP:20260422T091636
CREATED:20250306T183715Z
LAST-MODIFIED:20250306T183715Z
UID:10001566-1717524000-1717527600@www.cyaasports.com
SUMMARY:CYAA T-ball
DESCRIPTION:
URL:https://www.cyaasports.com/event/cyaa-t-ball-3/2024-06-04/
LOCATION:Turf
END:VEVENT
BEGIN:VEVENT
DTSTART;TZID=America/New_York:20240604T180000
DTEND;TZID=America/New_York:20240604T190000
DTSTAMP:20260422T091636
CREATED:20250306T183715Z
LAST-MODIFIED:20250306T183715Z
UID:10001664-1717524000-1717527600@www.cyaasports.com
SUMMARY:U12 Stingers Practice
DESCRIPTION:
URL:https://www.cyaasports.com/event/u12-stingers-practice-8-2/2024-06-04/
LOCATION:Soccer – Orig. Large Field
CATEGORIES:Outdoor
END:VEVENT
BEGIN:VEVENT
DTSTART;TZID=America/New_York:20240604T180000
DTEND;TZID=America/New_York:20240604T190000
DTSTAMP:20260422T091636
CREATED:20250306T183715Z
LAST-MODIFIED:20250306T183715Z
UID:10003220-1717524000-1717527600@www.cyaasports.com
SUMMARY:U9 Storm Practice
DESCRIPTION:
URL:https://www.cyaasports.com/event/u9-storm-practice-2-2/2024-06-04/
LOCATION:Soccer – Small Field
CATEGORIES:Outdoor
END:VEVENT
BEGIN:VEVENT
DTSTART;TZID=America/New_York:20240604T183000
DTEND;TZID=America/New_York:20240604T200000
DTSTAMP:20260422T091636
CREATED:20250306T183615Z
LAST-MODIFIED:20250306T183615Z
UID:10000027-1717525800-1717531200@www.cyaasports.com
SUMMARY:NH Spartans Basketball
DESCRIPTION:
URL:https://www.cyaasports.com/event/nh-spartans-basketball/2024-06-04/
LOCATION:Court
CATEGORIES:Indoor
END:VEVENT
BEGIN:VEVENT
DTSTART;TZID=America/New_York:20240604T190000
DTEND;TZID=America/New_York:20240604T200000
DTSTAMP:20260422T091636
CREATED:20250306T183715Z
LAST-MODIFIED:20250306T183715Z
UID:10000635-1717527600-1717531200@www.cyaasports.com
SUMMARY:U13 Storm Practice
DESCRIPTION:
URL:https://www.cyaasports.com/event/u13-storm-practice-4-2/2024-06-04/
LOCATION:Soccer – Orig. Large Field
CATEGORIES:Outdoor
END:VEVENT
BEGIN:VEVENT
DTSTART;TZID=America/New_York:20240604T200000
DTEND;TZID=America/New_York:20240604T220000
DTSTAMP:20260422T091636
CREATED:20250306T183623Z
LAST-MODIFIED:20250306T183623Z
UID:10003277-1717531200-1717538400@www.cyaasports.com
SUMMARY:Men's basketball pay to play
DESCRIPTION:
URL:https://www.cyaasports.com/event/mens-basketball-pay-to-play-4/2024-06-04/
LOCATION:Court
CATEGORIES:Indoor
END:VEVENT
BEGIN:VEVENT
DTSTART;TZID=America/New_York:20240605T090000
DTEND;TZID=America/New_York:20240605T130000
DTSTAMP:20260422T091636
CREATED:20250306T183712Z
LAST-MODIFIED:20250402T203838Z
UID:10001080-1717578000-1717592400@www.cyaasports.com
SUMMARY:Pickleball Sterling
DESCRIPTION:
URL:https://www.cyaasports.com/event/summer-pickleball/2024-06-05/
LOCATION:Court
CATEGORIES:Indoor
END:VEVENT
BEGIN:VEVENT
DTSTART;TZID=America/New_York:20240605T163000
DTEND;TZID=America/New_York:20240605T174500
DTSTAMP:20260422T091636
CREATED:20250306T183712Z
LAST-MODIFIED:20250306T183712Z
UID:10000089-1717605000-1717609500@www.cyaasports.com
SUMMARY:Helmig Storm
DESCRIPTION:
URL:https://www.cyaasports.com/event/helmig-storm-13/
LOCATION:Turf
CATEGORIES:Indoor
END:VEVENT
BEGIN:VEVENT
DTSTART;TZID=America/New_York:20240605T163000
DTEND;TZID=America/New_York:20240605T174500
DTSTAMP:20260422T091636
CREATED:20250306T183717Z
LAST-MODIFIED:20250306T183717Z
UID:10000491-1717605000-1717609500@www.cyaasports.com
SUMMARY:HS Storm Practice
DESCRIPTION:
URL:https://www.cyaasports.com/event/hs-storm-practice/2024-06-05/
LOCATION:Soccer – Rotary Field\, 27 Raymond Road\, Candia\, NH\, 03034\, United States
CATEGORIES:Outdoor
END:VEVENT
BEGIN:VEVENT
DTSTART;TZID=America/New_York:20240605T170000
DTEND;TZID=America/New_York:20240605T180000
DTSTAMP:20260422T091636
CREATED:20250306T183717Z
LAST-MODIFIED:20250306T183717Z
UID:10000371-1717606800-1717610400@www.cyaasports.com
SUMMARY:U10 Storm Practice - Gustin
DESCRIPTION:
URL:https://www.cyaasports.com/event/u10-storm-practice-gustin/2024-06-05/
LOCATION:Soccer – Small Field
CATEGORIES:Outdoor
END:VEVENT
BEGIN:VEVENT
DTSTART;TZID=America/New_York:20240605T173000
DTEND;TZID=America/New_York:20240605T203000
DTSTAMP:20260422T091636
CREATED:20250306T183712Z
LAST-MODIFIED:20250306T183712Z
UID:10001452-1717608600-1717619400@www.cyaasports.com
SUMMARY:Ameri-Kids
DESCRIPTION:
URL:https://www.cyaasports.com/event/ameri-kids-17/2024-06-05/
LOCATION:Court
CATEGORIES:Indoor
END:VEVENT
BEGIN:VEVENT
DTSTART;TZID=America/New_York:20240605T180000
DTEND;TZID=America/New_York:20240605T190000
DTSTAMP:20260422T091636
CREATED:20250306T183712Z
LAST-MODIFIED:20250306T183712Z
UID:10000601-1717610400-1717614000@www.cyaasports.com
SUMMARY:Trimmer U12
DESCRIPTION:
URL:https://www.cyaasports.com/event/trimmer-u12/
LOCATION:Turf
CATEGORIES:Indoor
END:VEVENT
END:VCALENDAR