BEGIN:VCALENDAR
VERSION:2.0
PRODID:-//CYAA - ECPv6.11.2//NONSGML v1.0//EN
CALSCALE:GREGORIAN
METHOD:PUBLISH
X-ORIGINAL-URL:https://www.cyaasports.com
X-WR-CALDESC:Events for CYAA
REFRESH-INTERVAL;VALUE=DURATION:PT1H
X-Robots-Tag:noindex
X-PUBLISHED-TTL:PT1H
BEGIN:VTIMEZONE
TZID:America/New_York
BEGIN:DAYLIGHT
TZOFFSETFROM:-0500
TZOFFSETTO:-0400
TZNAME:EDT
DTSTART:20240310T070000
END:DAYLIGHT
BEGIN:STANDARD
TZOFFSETFROM:-0400
TZOFFSETTO:-0500
TZNAME:EST
DTSTART:20241103T060000
END:STANDARD
END:VTIMEZONE
BEGIN:VEVENT
DTSTART;TZID=America/New_York:20240721T080000
DTEND;TZID=America/New_York:20240721T100000
DTSTAMP:20260422T091642
CREATED:20250306T183710Z
LAST-MODIFIED:20250306T183710Z
UID:10003992-1721548800-1721556000@www.cyaasports.com
SUMMARY:Men’s Basketball pay to play
DESCRIPTION:
URL:https://www.cyaasports.com/event/mens-basketball-pay-to-play-2/2024-07-21/
LOCATION:Court
CATEGORIES:Indoor
END:VEVENT
BEGIN:VEVENT
DTSTART;TZID=America/New_York:20240721T180000
DTEND;TZID=America/New_York:20240721T203000
DTSTAMP:20260422T091642
CREATED:20250306T183711Z
LAST-MODIFIED:20250306T183711Z
UID:10002691-1721584800-1721593800@www.cyaasports.com
SUMMARY:Adult volleyball pay to play
DESCRIPTION:Adult voll
URL:https://www.cyaasports.com/event/adult-volleyball-pay-to-play/2024-07-21/
LOCATION:Turf
CATEGORIES:Indoor
END:VEVENT
BEGIN:VEVENT
DTSTART;TZID=America/New_York:20240722T090000
DTEND;TZID=America/New_York:20240722T130000
DTSTAMP:20260422T091642
CREATED:20250306T183712Z
LAST-MODIFIED:20250402T203838Z
UID:10001111-1721638800-1721653200@www.cyaasports.com
SUMMARY:Pickleball Sterling
DESCRIPTION:
URL:https://www.cyaasports.com/event/summer-pickleball/2024-07-22/
LOCATION:Court
CATEGORIES:Indoor
END:VEVENT
BEGIN:VEVENT
DTSTART;TZID=America/New_York:20240722T180000
DTEND;TZID=America/New_York:20240722T200000
DTSTAMP:20260422T091642
CREATED:20250306T183711Z
LAST-MODIFIED:20250306T183711Z
UID:10001966-1721671200-1721678400@www.cyaasports.com
SUMMARY:Summer Basketball
DESCRIPTION:
URL:https://www.cyaasports.com/event/summer-basketball/2024-07-22/
LOCATION:Court
CATEGORIES:Indoor
END:VEVENT
BEGIN:VEVENT
DTSTART;TZID=America/New_York:20240723T053000
DTEND;TZID=America/New_York:20240723T063000
DTSTAMP:20260422T091642
CREATED:20250306T183710Z
LAST-MODIFIED:20250306T183710Z
UID:10001487-1721712600-1721716200@www.cyaasports.com
SUMMARY:Functional Strength - Morning Workout
DESCRIPTION:
URL:https://www.cyaasports.com/event/functional-strength-morning-workout-2/2024-07-23/
LOCATION:Turf
CATEGORIES:Indoor
END:VEVENT
BEGIN:VEVENT
DTSTART;TZID=America/New_York:20240723T090000
DTEND;TZID=America/New_York:20240723T130000
DTSTAMP:20260422T091642
CREATED:20250306T183712Z
LAST-MODIFIED:20250402T203838Z
UID:10001112-1721725200-1721739600@www.cyaasports.com
SUMMARY:Pickleball Sterling
DESCRIPTION:
URL:https://www.cyaasports.com/event/summer-pickleball/2024-07-23/
LOCATION:Court
CATEGORIES:Indoor
END:VEVENT
BEGIN:VEVENT
DTSTART;TZID=America/New_York:20240723T180000
DTEND;TZID=America/New_York:20240723T193000
DTSTAMP:20260422T091642
CREATED:20250306T183712Z
LAST-MODIFIED:20250306T183712Z
UID:10000251-1721757600-1721763000@www.cyaasports.com
SUMMARY:LR Softball Practice
DESCRIPTION:
URL:https://www.cyaasports.com/event/lr-softball-practice/2024-07-23/
LOCATION:Baseball 1
CATEGORIES:Outdoor
END:VEVENT
BEGIN:VEVENT
DTSTART;TZID=America/New_York:20240723T193000
DTEND;TZID=America/New_York:20240723T220000
DTSTAMP:20260422T091642
CREATED:20250306T183709Z
LAST-MODIFIED:20250306T183709Z
UID:10001560-1721763000-1721772000@www.cyaasports.com
SUMMARY:Pay to play adult BBall
DESCRIPTION:
URL:https://www.cyaasports.com/event/pay-to-play-adult-bball-2/
LOCATION:Court
CATEGORIES:Indoor
END:VEVENT
BEGIN:VEVENT
DTSTART;TZID=America/New_York:20240724T090000
DTEND;TZID=America/New_York:20240724T130000
DTSTAMP:20260422T091642
CREATED:20250306T183712Z
LAST-MODIFIED:20250402T203838Z
UID:10001113-1721811600-1721826000@www.cyaasports.com
SUMMARY:Pickleball Sterling
DESCRIPTION:
URL:https://www.cyaasports.com/event/summer-pickleball/2024-07-24/
LOCATION:Court
CATEGORIES:Indoor
END:VEVENT
BEGIN:VEVENT
DTSTART;TZID=America/New_York:20240724T173000
DTEND;TZID=America/New_York:20240724T203000
DTSTAMP:20260422T091642
CREATED:20250306T183712Z
LAST-MODIFIED:20250306T183712Z
UID:10001457-1721842200-1721853000@www.cyaasports.com
SUMMARY:Ameri-Kids
DESCRIPTION:
URL:https://www.cyaasports.com/event/ameri-kids-17/2024-07-24/
LOCATION:Court
CATEGORIES:Indoor
END:VEVENT
BEGIN:VEVENT
DTSTART;TZID=America/New_York:20240725T053000
DTEND;TZID=America/New_York:20240725T063000
DTSTAMP:20260422T091642
CREATED:20250306T183710Z
LAST-MODIFIED:20250306T183710Z
UID:10000584-1721885400-1721889000@www.cyaasports.com
SUMMARY:Functional Strength - Morning Workout
DESCRIPTION:
URL:https://www.cyaasports.com/event/functional-strength-morning-workout-3/2024-07-25/
LOCATION:Turf
CATEGORIES:Indoor
END:VEVENT
BEGIN:VEVENT
DTSTART;TZID=America/New_York:20240725T090000
DTEND;TZID=America/New_York:20240725T130000
DTSTAMP:20260422T091642
CREATED:20250306T183712Z
LAST-MODIFIED:20250402T203838Z
UID:10001114-1721898000-1721912400@www.cyaasports.com
SUMMARY:Pickleball Sterling
DESCRIPTION:
URL:https://www.cyaasports.com/event/summer-pickleball/2024-07-25/
LOCATION:Court
CATEGORIES:Indoor
END:VEVENT
BEGIN:VEVENT
DTSTART;TZID=America/New_York:20240725T210000
DTEND;TZID=America/New_York:20240725T230000
DTSTAMP:20260422T091642
CREATED:20250306T183709Z
LAST-MODIFIED:20250306T183709Z
UID:10000237-1721941200-1721948400@www.cyaasports.com
SUMMARY:JIH Basketball training
DESCRIPTION:
URL:https://www.cyaasports.com/event/jih-basketball-training-2024-07-25/
LOCATION:Court
CATEGORIES:Indoor
END:VEVENT
BEGIN:VEVENT
DTSTART;TZID=America/New_York:20240726T090000
DTEND;TZID=America/New_York:20240726T130000
DTSTAMP:20260422T091642
CREATED:20250306T183712Z
LAST-MODIFIED:20250402T203838Z
UID:10001115-1721984400-1721998800@www.cyaasports.com
SUMMARY:Pickleball Sterling
DESCRIPTION:
URL:https://www.cyaasports.com/event/summer-pickleball/2024-07-26/
LOCATION:Court
CATEGORIES:Indoor
END:VEVENT
BEGIN:VEVENT
DTSTART;TZID=America/New_York:20240726T180000
DTEND;TZID=America/New_York:20240726T200000
DTSTAMP:20260422T091642
CREATED:20250306T183711Z
LAST-MODIFIED:20250306T183711Z
UID:10003171-1722016800-1722024000@www.cyaasports.com
SUMMARY:JIH training
DESCRIPTION:
URL:https://www.cyaasports.com/event/jih-training-3/2024-07-26/
LOCATION:Court
CATEGORIES:Indoor
END:VEVENT
END:VCALENDAR